Package: NCIgraph Version: 1.52.0 Command: /home/biocbuild/bbs-3.19-bioc/R/bin/R CMD INSTALL NCIgraph StartedAt: 2024-10-16 16:26:28 -0400 (Wed, 16 Oct 2024) EndedAt: 2024-10-16 16:26:34 -0400 (Wed, 16 Oct 2024) EllapsedTime: 6.7 seconds RetCode: 0 Status: OK