Package: NBAMSeq Version: 1.20.0 Command: E:\biocbuild\bbs-3.19-bioc\R\bin\R.exe CMD check --no-multiarch --install=check:NBAMSeq.install-out.txt --library=E:\biocbuild\bbs-3.19-bioc\R\library --no-vignettes --timings NBAMSeq_1.20.0.tar.gz StartedAt: 2024-10-17 03:54:11 -0400 (Thu, 17 Oct 2024) EndedAt: 2024-10-17 03:58:06 -0400 (Thu, 17 Oct 2024) EllapsedTime: 235.4 seconds RetCode: 0 Status: OK CheckDir: NBAMSeq.Rcheck Warnings: 0