Package: NBAMSeq Version: 1.20.0 Command: chmod a+r NBAMSeq -R && E:\biocbuild\bbs-3.19-bioc\R\bin\R.exe CMD build --keep-empty-dirs --no-resave-data NBAMSeq StartedAt: 2024-10-16 20:40:19 -0400 (Wed, 16 Oct 2024) EndedAt: 2024-10-16 20:41:46 -0400 (Wed, 16 Oct 2024) EllapsedTime: 87.7 seconds RetCode: 0 Status: OK PackageFile: NBAMSeq_1.20.0.tar.gz PackageFileSize: 242.3 KiB