Package: NBAMSeq Version: 1.20.0 Command: chmod a+r NBAMSeq -R && F:\biocbuild\bbs-3.19-bioc\R\bin\R.exe CMD build --keep-empty-dirs --no-resave-data NBAMSeq StartedAt: 2024-06-26 20:26:37 -0400 (Wed, 26 Jun 2024) EndedAt: 2024-06-26 20:28:11 -0400 (Wed, 26 Jun 2024) EllapsedTime: 94.3 seconds RetCode: 0 Status: OK PackageFile: NBAMSeq_1.20.0.tar.gz PackageFileSize: 239.2 KiB