Package: NADfinder Version: 1.28.0 Command: E:\biocbuild\bbs-3.19-bioc\R\bin\R.exe CMD INSTALL NADfinder StartedAt: 2024-10-16 17:08:04 -0400 (Wed, 16 Oct 2024) EndedAt: 2024-10-16 17:09:27 -0400 (Wed, 16 Oct 2024) EllapsedTime: 82.9 seconds RetCode: 0 Status: OK