Package: NADfinder Version: 1.28.0 Command: chmod a+r NADfinder -R && E:\biocbuild\bbs-3.19-bioc\R\bin\R.exe CMD build --keep-empty-dirs --no-resave-data NADfinder StartedAt: 2024-10-16 20:39:41 -0400 (Wed, 16 Oct 2024) EndedAt: 2024-10-16 20:43:01 -0400 (Wed, 16 Oct 2024) EllapsedTime: 199.9 seconds RetCode: 0 Status: OK PackageFile: NADfinder_1.28.0.tar.gz PackageFileSize: 5.677 MiB