Package: NADfinder Version: 1.28.0 Command: chmod a+r NADfinder -R && F:\biocbuild\bbs-3.19-bioc\R\bin\R.exe CMD build --keep-empty-dirs --no-resave-data NADfinder StartedAt: 2024-06-26 20:26:02 -0400 (Wed, 26 Jun 2024) EndedAt: 2024-06-26 20:29:33 -0400 (Wed, 26 Jun 2024) EllapsedTime: 211.1 seconds RetCode: 0 Status: OK PackageFile: NADfinder_1.28.0.tar.gz PackageFileSize: 5.677 MiB