Package: NADfinder Version: 1.28.0 Command: /Library/Frameworks/R.framework/Resources/bin/R CMD check --install=check:NADfinder.install-out.txt --library=/Library/Frameworks/R.framework/Resources/library --no-vignettes --timings NADfinder_1.28.0.tar.gz StartedAt: 2024-10-17 09:52:52 -0400 (Thu, 17 Oct 2024) EndedAt: 2024-10-17 10:14:08 -0400 (Thu, 17 Oct 2024) EllapsedTime: 1276.0 seconds RetCode: 0 Status: OK CheckDir: NADfinder.Rcheck Warnings: 0