Package: NADfinder Version: 1.28.0 Command: rm -rf NADfinder.buildbin-libdir && mkdir NADfinder.buildbin-libdir && /Users/biocbuild/BBS/utils/build-universal.sh NADfinder_1.28.0.tar.gz /Library/Frameworks/R.framework/Resources/bin/R NADfinder.buildbin-libdir StartedAt: 2024-06-10 00:29:30 -0400 (Mon, 10 Jun 2024) EndedAt: 2024-06-10 00:31:08 -0400 (Mon, 10 Jun 2024) EllapsedTime: 98.7 seconds RetCode: 0 Status: OK PackageFile: NADfinder_1.28.0.tgz PackageFileSize: 6.474 MiB