Package: NADfinder Version: 1.28.0 Command: /home/biocbuild/R/R-beta-2024-04-15_r86425/bin/R CMD build --keep-empty-dirs --no-resave-data NADfinder StartedAt: 2024-05-09 02:03:18 -0000 (Thu, 09 May 2024) EndedAt: 2024-05-09 02:07:39 -0000 (Thu, 09 May 2024) EllapsedTime: 261.3 seconds RetCode: 0 Status: OK PackageFile: NADfinder_1.28.0.tar.gz PackageFileSize: 5.814 MiB