Package: NADfinder Version: 1.28.0 Command: /Library/Frameworks/R.framework/Resources/bin/R CMD INSTALL NADfinder StartedAt: 2024-06-09 17:07:00 -0400 (Sun, 09 Jun 2024) EndedAt: 2024-06-09 17:08:59 -0400 (Sun, 09 Jun 2024) EllapsedTime: 119.2 seconds RetCode: 0 Status: OK