Package: NADfinder Version: 1.28.0 Command: /Library/Frameworks/R.framework/Resources/bin/R CMD INSTALL NADfinder StartedAt: 2024-10-16 18:10:20 -0400 (Wed, 16 Oct 2024) EndedAt: 2024-10-16 18:11:46 -0400 (Wed, 16 Oct 2024) EllapsedTime: 85.7 seconds RetCode: 0 Status: OK