Package: MutationalPatterns Version: 3.14.0 Command: E:\biocbuild\bbs-3.19-bioc\R\bin\R.exe CMD INSTALL MutationalPatterns StartedAt: 2024-10-16 16:36:56 -0400 (Wed, 16 Oct 2024) EndedAt: 2024-10-16 16:38:37 -0400 (Wed, 16 Oct 2024) EllapsedTime: 101.0 seconds RetCode: 0 Status: OK