############################################################################## ############################################################################## ### ### Running command: ### ### E:\biocbuild\bbs-3.19-bioc\R\bin\R.exe CMD check --no-multiarch --install=check:MutationalPatterns.install-out.txt --library=E:\biocbuild\bbs-3.19-bioc\R\library --no-vignettes --timings MutationalPatterns_3.14.0.tar.gz ### ############################################################################## ############################################################################## * using log directory 'E:/biocbuild/bbs-3.19-bioc/meat/MutationalPatterns.Rcheck' * using R version 4.4.1 (2024-06-14 ucrt) * using platform: x86_64-w64-mingw32 * R was compiled by gcc.exe (GCC) 13.2.0 GNU Fortran (GCC) 13.2.0 * running under: Windows Server 2022 x64 (build 20348) * using session charset: UTF-8 * using option '--no-vignettes' * checking for file 'MutationalPatterns/DESCRIPTION' ... OK * checking extension type ... Package * this is package 'MutationalPatterns' version '3.14.0' * package encoding: UTF-8 * checking package namespace information ... OK * checking package dependencies ... OK * checking if this is a source package ... OK * checking if there is a namespace ... OK * checking for hidden files and directories ... OK * checking for portable file names ... OK * checking whether package 'MutationalPatterns' can be installed ... OK * checking installed package size ... OK * checking package directory ... OK * checking 'build' directory ... OK * checking DESCRIPTION meta-information ... NOTE License stub is invalid DCF. * checking top-level files ... OK * checking for left-over files ... OK * checking index information ... OK * checking package subdirectories ... OK * checking code files for non-ASCII characters ... OK * checking R files for syntax errors ... OK * checking whether the package can be loaded ... OK * checking whether the package can be loaded with stated dependencies ... OK * checking whether the package can be unloaded cleanly ... OK * checking whether the namespace can be loaded with stated dependencies ... OK * checking whether the namespace can be unloaded cleanly ... OK * checking dependencies in R code ... OK * checking S3 generic/method consistency ... OK * checking replacement functions ... OK * checking foreign function calls ... OK * checking R code for possible problems ... OK * checking Rd files ... OK * checking Rd metadata ... OK * checking Rd cross-references ... OK * checking for missing documentation entries ... OK * checking for code/documentation mismatches ... OK * checking Rd \usage sections ... OK * checking Rd contents ... OK * checking for unstated dependencies in examples ... OK * checking files in 'vignettes' ... OK * checking examples ... OK Examples with CPU (user + system) or elapsed time > 5s user system elapsed read_vcfs_as_granges 26.17 2.20 34.51 context_potential_damage_analysis 26.09 0.68 26.79 plot_lesion_segregation 18.82 0.17 19.03 genomic_distribution 13.57 1.05 14.64 calculate_lesion_segregation 12.88 0.36 13.23 get_mut_type 12.63 0.05 12.68 bin_mutation_density 11.58 0.61 12.20 plot_indel_contexts 10.99 0.10 11.08 plot_compare_indels 10.39 0.11 10.53 get_indel_context 8.58 1.20 9.78 fit_to_signatures_bootstrapped 7.81 0.26 8.08 plot_profile_heatmap 6.91 0.19 7.11 plot_river 6.97 0.06 7.03 plot_spectrum_region 6.27 0.32 6.59 mut_matrix_stranded 5.73 0.54 6.53 plot_spectrum 6.11 0.15 6.26 plot_compare_dbs 5.53 0.05 5.61 plot_192_profile 4.95 0.08 5.04 split_muts_region 4.97 0.06 5.04 * checking for unstated dependencies in 'tests' ... OK * checking tests ... Running 'testthat.R' OK * checking for unstated dependencies in vignettes ... OK * checking package vignettes ... OK * checking running R code from vignettes ... SKIPPED * checking re-building of vignette outputs ... SKIPPED * checking PDF version of manual ... OK * DONE Status: 1 NOTE See 'E:/biocbuild/bbs-3.19-bioc/meat/MutationalPatterns.Rcheck/00check.log' for details.