Package: MutationalPatterns Version: 3.14.0 Command: chmod a+r MutationalPatterns -R && E:\biocbuild\bbs-3.19-bioc\R\bin\R.exe CMD build --keep-empty-dirs --no-resave-data MutationalPatterns StartedAt: 2024-10-16 20:38:07 -0400 (Wed, 16 Oct 2024) EndedAt: 2024-10-16 20:51:35 -0400 (Wed, 16 Oct 2024) EllapsedTime: 807.7 seconds RetCode: 0 Status: OK PackageFile: MutationalPatterns_3.14.0.tar.gz PackageFileSize: 3.357 MiB