Package: MutationalPatterns Version: 3.14.0 Command: rm -rf MutationalPatterns.buildbin-libdir && mkdir MutationalPatterns.buildbin-libdir && E:\biocbuild\bbs-3.19-bioc\R\bin\R.exe CMD INSTALL --build --library=MutationalPatterns.buildbin-libdir MutationalPatterns_3.14.0.tar.gz StartedAt: 2024-10-17 08:14:10 -0400 (Thu, 17 Oct 2024) EndedAt: 2024-10-17 08:18:57 -0400 (Thu, 17 Oct 2024) EllapsedTime: 286.8 seconds RetCode: 0 Status: OK PackageFile: MutationalPatterns_3.14.0.zip PackageFileSize: 3.893 MiB