Package: MutationalPatterns Version: 3.14.0 Command: /home/biocbuild/bbs-3.19-bioc/R/bin/R CMD INSTALL MutationalPatterns StartedAt: 2024-10-16 16:13:40 -0400 (Wed, 16 Oct 2024) EndedAt: 2024-10-16 16:13:59 -0400 (Wed, 16 Oct 2024) EllapsedTime: 18.3 seconds RetCode: 0 Status: OK