Package: MutationalPatterns Version: 3.14.0 Command: /home/biocbuild/bbs-3.19-bioc/R/bin/R CMD build --keep-empty-dirs --no-resave-data MutationalPatterns StartedAt: 2024-10-16 19:43:48 -0400 (Wed, 16 Oct 2024) EndedAt: 2024-10-16 19:54:58 -0400 (Wed, 16 Oct 2024) EllapsedTime: 669.6 seconds RetCode: 0 Status: OK PackageFile: MutationalPatterns_3.14.0.tar.gz PackageFileSize: 4.868 MiB