Package: MungeSumstats Version: 1.12.2 Command: chmod a+r MungeSumstats -R && E:\biocbuild\bbs-3.19-bioc\R\bin\R.exe CMD build --keep-empty-dirs --no-resave-data MungeSumstats StartedAt: 2024-10-16 20:37:32 -0400 (Wed, 16 Oct 2024) EndedAt: 2024-10-16 20:39:25 -0400 (Wed, 16 Oct 2024) EllapsedTime: 113.1 seconds RetCode: 0 Status: OK PackageFile: MungeSumstats_1.12.2.tar.gz PackageFileSize: 2.366 MiB