Package: MungeSumstats Version: 1.12.0 Command: chmod a+r MungeSumstats -R && F:\biocbuild\bbs-3.19-bioc\R\bin\R.exe CMD build --keep-empty-dirs --no-resave-data MungeSumstats StartedAt: 2024-06-26 20:23:55 -0400 (Wed, 26 Jun 2024) EndedAt: 2024-06-26 20:25:44 -0400 (Wed, 26 Jun 2024) EllapsedTime: 108.9 seconds RetCode: 0 Status: OK PackageFile: MungeSumstats_1.12.0.tar.gz PackageFileSize: 2.366 MiB