Package: MungeSumstats Version: 1.12.2 Command: /home/biocbuild/bbs-3.19-bioc/R/bin/R CMD INSTALL MungeSumstats StartedAt: 2024-10-16 16:11:33 -0400 (Wed, 16 Oct 2024) EndedAt: 2024-10-16 16:12:13 -0400 (Wed, 16 Oct 2024) EllapsedTime: 40.0 seconds RetCode: 0 Status: OK