Package: MungeSumstats Version: 1.12.2 Command: /Library/Frameworks/R.framework/Resources/bin/R CMD build --keep-empty-dirs --no-resave-data MungeSumstats StartedAt: 2024-10-16 21:28:47 -0400 (Wed, 16 Oct 2024) EndedAt: 2024-10-16 21:33:00 -0400 (Wed, 16 Oct 2024) EllapsedTime: 253.0 seconds RetCode: 0 Status: OK PackageFile: MungeSumstats_1.12.2.tar.gz PackageFileSize: 2.366 MiB