Package: MungeSumstats Version: 1.12.2 Command: rm -rf MungeSumstats.buildbin-libdir && mkdir MungeSumstats.buildbin-libdir && /Users/biocbuild/BBS/utils/build-universal.sh MungeSumstats_1.12.2.tar.gz /Library/Frameworks/R.framework/Resources/bin/R MungeSumstats.buildbin-libdir StartedAt: 2024-10-17 16:42:23 -0400 (Thu, 17 Oct 2024) EndedAt: 2024-10-17 16:44:13 -0400 (Thu, 17 Oct 2024) EllapsedTime: 109.5 seconds RetCode: 0 Status: OK PackageFile: MungeSumstats_1.12.2.tgz PackageFileSize: 2.748 MiB