Package: MungeSumstats Version: 1.12.0 Command: rm -rf MungeSumstats.buildbin-libdir && mkdir MungeSumstats.buildbin-libdir && /Users/biocbuild/BBS/utils/build-universal.sh MungeSumstats_1.12.0.tar.gz /Library/Frameworks/R.framework/Resources/bin/R MungeSumstats.buildbin-libdir StartedAt: 2024-06-10 00:29:23 -0400 (Mon, 10 Jun 2024) EndedAt: 2024-06-10 00:30:24 -0400 (Mon, 10 Jun 2024) EllapsedTime: 61.5 seconds RetCode: 0 Status: OK PackageFile: MungeSumstats_1.12.0.tgz PackageFileSize: 2.747 MiB