Package: MungeSumstats Version: 1.12.0 Command: /home/biocbuild/R/R-beta-2024-04-15_r86425/bin/R CMD INSTALL MungeSumstats StartedAt: 2024-05-08 20:27:55 -0000 (Wed, 08 May 2024) EndedAt: 2024-05-08 20:28:54 -0000 (Wed, 08 May 2024) EllapsedTime: 59.1 seconds RetCode: 0 Status: OK