Package: MungeSumstats Version: 1.12.0 Command: /Library/Frameworks/R.framework/Resources/bin/R CMD check --install=check:MungeSumstats.install-out.txt --library=/Library/Frameworks/R.framework/Resources/library --no-vignettes --timings MungeSumstats_1.12.0.tar.gz StartedAt: 2024-06-10 23:27:16 -0400 (Mon, 10 Jun 2024) EndedAt: 2024-06-10 23:55:47 -0400 (Mon, 10 Jun 2024) EllapsedTime: 1711.1 seconds RetCode: 0 Status: OK CheckDir: MungeSumstats.Rcheck Warnings: 0