Package: MungeSumstats Version: 1.12.0 Command: rm -rf MungeSumstats.buildbin-libdir && mkdir MungeSumstats.buildbin-libdir && /Users/biocbuild/BBS/utils/build-universal.sh MungeSumstats_1.12.0.tar.gz /Library/Frameworks/R.framework/Resources/bin/R MungeSumstats.buildbin-libdir StartedAt: 2024-06-11 12:15:51 -0400 (Tue, 11 Jun 2024) EndedAt: 2024-06-11 12:17:17 -0400 (Tue, 11 Jun 2024) EllapsedTime: 85.9 seconds RetCode: 0 Status: OK PackageFile: MungeSumstats_1.12.0.tgz PackageFileSize: 2.748 MiB