Package: MungeSumstats Version: 1.12.2 Command: /Library/Frameworks/R.framework/Resources/bin/R CMD build --keep-empty-dirs --no-resave-data MungeSumstats StartedAt: 2024-10-17 05:23:14 -0400 (Thu, 17 Oct 2024) EndedAt: 2024-10-17 05:24:50 -0400 (Thu, 17 Oct 2024) EllapsedTime: 96.6 seconds RetCode: 0 Status: OK PackageFile: MungeSumstats_1.12.2.tar.gz PackageFileSize: 2.366 MiB