Package: MultimodalExperiment Version: 1.4.0 Command: rm -rf MultimodalExperiment.buildbin-libdir && mkdir MultimodalExperiment.buildbin-libdir && E:\biocbuild\bbs-3.19-bioc\R\bin\R.exe CMD INSTALL --build --library=MultimodalExperiment.buildbin-libdir MultimodalExperiment_1.4.0.tar.gz StartedAt: 2024-10-17 08:13:39 -0400 (Thu, 17 Oct 2024) EndedAt: 2024-10-17 08:18:03 -0400 (Thu, 17 Oct 2024) EllapsedTime: 264.2 seconds RetCode: 0 Status: OK PackageFile: MultimodalExperiment_1.4.0.zip PackageFileSize: 4.454 MiB