Package: MultimodalExperiment Version: 1.4.0 Command: rm -rf MultimodalExperiment.buildbin-libdir && mkdir MultimodalExperiment.buildbin-libdir && F:\biocbuild\bbs-3.19-bioc\R\bin\R.exe CMD INSTALL --build --library=MultimodalExperiment.buildbin-libdir MultimodalExperiment_1.4.0.tar.gz StartedAt: 2024-06-27 08:34:21 -0400 (Thu, 27 Jun 2024) EndedAt: 2024-06-27 08:35:08 -0400 (Thu, 27 Jun 2024) EllapsedTime: 46.9 seconds RetCode: 0 Status: OK PackageFile: MultimodalExperiment_1.4.0.zip PackageFileSize: 4.453 MiB