Package: MultimodalExperiment Version: 1.4.0 Command: /home/biocbuild/bbs-3.19-bioc/R/bin/R CMD build --keep-empty-dirs --no-resave-data MultimodalExperiment StartedAt: 2024-10-16 19:42:59 -0400 (Wed, 16 Oct 2024) EndedAt: 2024-10-16 19:43:43 -0400 (Wed, 16 Oct 2024) EllapsedTime: 44.1 seconds RetCode: 0 Status: OK PackageFile: MultimodalExperiment_1.4.0.tar.gz PackageFileSize: 2.532 MiB