Package: MultimodalExperiment Version: 1.4.0 Command: /Library/Frameworks/R.framework/Resources/bin/R CMD build --keep-empty-dirs --no-resave-data MultimodalExperiment StartedAt: 2024-06-10 01:24:30 -0400 (Mon, 10 Jun 2024) EndedAt: 2024-06-10 01:25:38 -0400 (Mon, 10 Jun 2024) EllapsedTime: 67.5 seconds RetCode: 0 Status: OK PackageFile: MultimodalExperiment_1.4.0.tar.gz PackageFileSize: 2.532 MiB