Package: MultimodalExperiment Version: 1.4.0 Command: /Library/Frameworks/R.framework/Resources/bin/R CMD INSTALL MultimodalExperiment StartedAt: 2024-10-16 15:59:27 -0400 (Wed, 16 Oct 2024) EndedAt: 2024-10-16 16:00:03 -0400 (Wed, 16 Oct 2024) EllapsedTime: 36.0 seconds RetCode: 0 Status: OK