Package: MultimodalExperiment Version: 1.4.0 Command: /Library/Frameworks/R.framework/Resources/bin/R CMD check --install=check:MultimodalExperiment.install-out.txt --library=/Library/Frameworks/R.framework/Resources/library --no-vignettes --timings MultimodalExperiment_1.4.0.tar.gz StartedAt: 2024-10-18 05:29:49 -0400 (Fri, 18 Oct 2024) EndedAt: 2024-10-18 05:33:19 -0400 (Fri, 18 Oct 2024) EllapsedTime: 209.5 seconds RetCode: 0 Status: OK CheckDir: MultimodalExperiment.Rcheck Warnings: 0