Package: MultimodalExperiment Version: 1.4.0 Command: /Library/Frameworks/R.framework/Resources/bin/R CMD build --keep-empty-dirs --no-resave-data MultimodalExperiment StartedAt: 2024-10-17 05:21:08 -0400 (Thu, 17 Oct 2024) EndedAt: 2024-10-17 05:22:07 -0400 (Thu, 17 Oct 2024) EllapsedTime: 59.1 seconds RetCode: 0 Status: OK PackageFile: MultimodalExperiment_1.4.0.tar.gz PackageFileSize: 2.532 MiB