Package: MultiRNAflow Version: 1.2.0 Command: rm -rf MultiRNAflow.buildbin-libdir && mkdir MultiRNAflow.buildbin-libdir && E:\biocbuild\bbs-3.19-bioc\R\bin\R.exe CMD INSTALL --build --library=MultiRNAflow.buildbin-libdir MultiRNAflow_1.2.0.tar.gz StartedAt: 2024-10-17 08:13:42 -0400 (Thu, 17 Oct 2024) EndedAt: 2024-10-17 08:14:38 -0400 (Thu, 17 Oct 2024) EllapsedTime: 55.8 seconds RetCode: 0 Status: OK PackageFile: MultiRNAflow_1.2.0.zip PackageFileSize: 3.039 MiB