Package: MultiRNAflow Version: 1.2.0 Command: /Library/Frameworks/R.framework/Resources/bin/R CMD build --keep-empty-dirs --no-resave-data MultiRNAflow StartedAt: 2024-10-16 21:28:18 -0400 (Wed, 16 Oct 2024) EndedAt: 2024-10-16 21:45:33 -0400 (Wed, 16 Oct 2024) EllapsedTime: 1034.6 seconds RetCode: 0 Status: OK PackageFile: MultiRNAflow_1.2.0.tar.gz PackageFileSize: 3.142 MiB