Package: MultiRNAflow Version: 1.2.0 Command: /home/biocbuild/R/R-beta-2024-04-15_r86425/bin/R CMD build --keep-empty-dirs --no-resave-data MultiRNAflow StartedAt: 2024-05-09 02:01:35 -0000 (Thu, 09 May 2024) EndedAt: 2024-05-09 02:08:45 -0000 (Thu, 09 May 2024) EllapsedTime: 429.6 seconds RetCode: 0 Status: OK PackageFile: MultiRNAflow_1.2.0.tar.gz PackageFileSize: 3.153 MiB