Package: MultiMed Version: 2.26.0 Command: E:\biocbuild\bbs-3.19-bioc\R\bin\R.exe CMD check --no-multiarch --install=check:MultiMed.install-out.txt --library=E:\biocbuild\bbs-3.19-bioc\R\library --no-vignettes --timings MultiMed_2.26.0.tar.gz StartedAt: 2024-10-17 03:48:17 -0400 (Thu, 17 Oct 2024) EndedAt: 2024-10-17 03:48:47 -0400 (Thu, 17 Oct 2024) EllapsedTime: 30.0 seconds RetCode: 0 Status: OK CheckDir: MultiMed.Rcheck Warnings: 0