Package: MultiMed Version: 2.26.0 Command: chmod a+r MultiMed -R && E:\biocbuild\bbs-3.19-bioc\R\bin\R.exe CMD build --keep-empty-dirs --no-resave-data MultiMed StartedAt: 2024-10-16 20:36:22 -0400 (Wed, 16 Oct 2024) EndedAt: 2024-10-16 20:36:37 -0400 (Wed, 16 Oct 2024) EllapsedTime: 15.3 seconds RetCode: 0 Status: OK PackageFile: MultiMed_2.26.0.tar.gz PackageFileSize: 426.7 KiB