Package: MultiMed Version: 2.26.0 Command: chmod a+r MultiMed -R && F:\biocbuild\bbs-3.19-bioc\R\bin\R.exe CMD build --keep-empty-dirs --no-resave-data MultiMed StartedAt: 2024-06-26 20:22:40 -0400 (Wed, 26 Jun 2024) EndedAt: 2024-06-26 20:23:02 -0400 (Wed, 26 Jun 2024) EllapsedTime: 21.5 seconds RetCode: 0 Status: OK PackageFile: MultiMed_2.26.0.tar.gz PackageFileSize: 426.6 KiB