Package: MultiMed Version: 2.26.0 Command: /Library/Frameworks/R.framework/Resources/bin/R CMD INSTALL MultiMed StartedAt: 2024-10-16 18:34:44 -0400 (Wed, 16 Oct 2024) EndedAt: 2024-10-16 18:34:47 -0400 (Wed, 16 Oct 2024) EllapsedTime: 2.5 seconds RetCode: 0 Status: OK