Package: MultiMed Version: 2.26.0 Command: /Library/Frameworks/R.framework/Resources/bin/R CMD check --install=check:MultiMed.install-out.txt --library=/Library/Frameworks/R.framework/Resources/library --no-vignettes --timings MultiMed_2.26.0.tar.gz StartedAt: 2024-10-18 05:28:46 -0400 (Fri, 18 Oct 2024) EndedAt: 2024-10-18 05:29:15 -0400 (Fri, 18 Oct 2024) EllapsedTime: 28.9 seconds RetCode: 0 Status: OK CheckDir: MultiMed.Rcheck Warnings: 0