Package: MultiDataSet Version: 1.32.0 Command: chmod a+r MultiDataSet -R && E:\biocbuild\bbs-3.19-bioc\R\bin\R.exe CMD build --keep-empty-dirs --no-resave-data MultiDataSet StartedAt: 2024-10-16 20:35:41 -0400 (Wed, 16 Oct 2024) EndedAt: 2024-10-16 20:36:52 -0400 (Wed, 16 Oct 2024) EllapsedTime: 71.7 seconds RetCode: 0 Status: OK PackageFile: MultiDataSet_1.32.0.tar.gz PackageFileSize: 495.9 KiB