Package: MultiDataSet Version: 1.32.0 Command: rm -rf MultiDataSet.buildbin-libdir && mkdir MultiDataSet.buildbin-libdir && E:\biocbuild\bbs-3.19-bioc\R\bin\R.exe CMD INSTALL --build --library=MultiDataSet.buildbin-libdir MultiDataSet_1.32.0.tar.gz StartedAt: 2024-10-17 08:13:28 -0400 (Thu, 17 Oct 2024) EndedAt: 2024-10-17 08:14:29 -0400 (Thu, 17 Oct 2024) EllapsedTime: 61.3 seconds RetCode: 0 Status: OK PackageFile: MultiDataSet_1.32.0.zip PackageFileSize: 875.1 KiB