Package: MultiDataSet Version: 1.32.0 Command: F:\biocbuild\bbs-3.19-bioc\R\bin\R.exe CMD check --no-multiarch --install=check:MultiDataSet.install-out.txt --library=F:\biocbuild\bbs-3.19-bioc\R\library --no-vignettes --timings MultiDataSet_1.32.0.tar.gz StartedAt: 2024-06-27 04:02:54 -0400 (Thu, 27 Jun 2024) EndedAt: 2024-06-27 04:06:20 -0400 (Thu, 27 Jun 2024) EllapsedTime: 206.5 seconds RetCode: 0 Status: WARNINGS CheckDir: MultiDataSet.Rcheck Warnings: 1