Package: MultiDataSet Version: 1.32.0 Command: rm -rf MultiDataSet.buildbin-libdir && mkdir MultiDataSet.buildbin-libdir && F:\biocbuild\bbs-3.19-bioc\R\bin\R.exe CMD INSTALL --build --library=MultiDataSet.buildbin-libdir MultiDataSet_1.32.0.tar.gz StartedAt: 2024-06-27 08:34:11 -0400 (Thu, 27 Jun 2024) EndedAt: 2024-06-27 08:34:51 -0400 (Thu, 27 Jun 2024) EllapsedTime: 40.5 seconds RetCode: 0 Status: OK PackageFile: MultiDataSet_1.32.0.zip PackageFileSize: 874.9 KiB