Package: MultiDataSet Version: 1.32.0 Command: /Library/Frameworks/R.framework/Resources/bin/R CMD build --keep-empty-dirs --no-resave-data MultiDataSet StartedAt: 2024-10-16 21:27:10 -0400 (Wed, 16 Oct 2024) EndedAt: 2024-10-16 21:29:41 -0400 (Wed, 16 Oct 2024) EllapsedTime: 150.9 seconds RetCode: 0 Status: OK PackageFile: MultiDataSet_1.32.0.tar.gz PackageFileSize: 495.3 KiB