Package: MultiDataSet Version: 1.32.0 Command: /Library/Frameworks/R.framework/Resources/bin/R CMD INSTALL MultiDataSet StartedAt: 2024-06-09 15:28:52 -0400 (Sun, 09 Jun 2024) EndedAt: 2024-06-09 15:29:25 -0400 (Sun, 09 Jun 2024) EllapsedTime: 32.2 seconds RetCode: 0 Status: OK