Package: MultiDataSet Version: 1.32.0 Command: /Library/Frameworks/R.framework/Resources/bin/R CMD check --install=check:MultiDataSet.install-out.txt --library=/Library/Frameworks/R.framework/Resources/library --no-vignettes --timings MultiDataSet_1.32.0.tar.gz StartedAt: 2024-06-10 23:20:21 -0400 (Mon, 10 Jun 2024) EndedAt: 2024-06-10 23:25:01 -0400 (Mon, 10 Jun 2024) EllapsedTime: 280.0 seconds RetCode: 0 Status: WARNINGS CheckDir: MultiDataSet.Rcheck Warnings: 1